BEGIN:VCALENDAR
VERSION:2.0
PRODID:institut-acte.pantheonsorbonne.fr
X-WR-TIMEZONE:Europe/Paris
BEGIN:VTIMEZONE
TZID:Europe/Paris
X-LIC-LOCATION:Europe/Paris
BEGIN:DAYLIGHT
TZNAME:CEST
TZOFFSETFROM:+0100
TZOFFSETTO:+0200
DTSTART:20260329T010000
END:DAYLIGHT
BEGIN:DAYLIGHT
TZNAME:CEST
TZOFFSETFROM:+0100
TZOFFSETTO:+0200
DTSTART:20270328T010000
END:DAYLIGHT
BEGIN:STANDARD
TZNAME:CET
TZOFFSETFROM:+0200
TZOFFSETTO:+0100
DTSTART:20251026T010000
END:STANDARD
BEGIN:STANDARD
TZNAME:CET
TZOFFSETFROM:+0200
TZOFFSETTO:+0100
DTSTART:20261025T010000
END:STANDARD
END:VTIMEZONE
BEGIN:VEVENT
UID:2c328663a180096d353bf032f7eda51d
DTSTART;TZID=Europe/Paris:20260422T120000
SEQUENCE:0
TRANSP:OPAQUE
URL:https://institut-acte.pantheonsorbonne.fr/evenements
SUMMARY:L&#039\;art en plein soleil
CLASS:PUBLIC
DESCRIPTION:Salle de conférence du château du campus Meudon de l'Observat
 oire de\nParis-PSL\, 5 Place Jules Janssen\, 92190 Meudon
X-ALT-DESC;FMTTYPE=text/html:Salle de conférence du château du campus Meu
 don de l&#039\;Observatoire de Paris-PSL\, 5 Place Jules Janssen\, 92190 M
 eudon \n\n
DTSTAMP:20260420T095837Z
END:VEVENT
END:VCALENDAR